BEGIN:VCALENDAR
VERSION:2.0
PRODID:-// - ECPv6.15.20//NONSGML v1.0//EN
CALSCALE:GREGORIAN
METHOD:PUBLISH
X-ORIGINAL-URL:https://fsgbevaix.ch
X-WR-CALDESC:Évènements pour 
REFRESH-INTERVAL;VALUE=DURATION:PT1H
X-Robots-Tag:noindex
X-PUBLISHED-TTL:PT1H
BEGIN:VTIMEZONE
TZID:UTC
BEGIN:STANDARD
TZOFFSETFROM:+0000
TZOFFSETTO:+0000
TZNAME:UTC
DTSTART:20200101T000000
END:STANDARD
END:VTIMEZONE
BEGIN:VEVENT
DTSTART;VALUE=DATE:20210704
DTEND;VALUE=DATE:20210705
DTSTAMP:20260424T033101
CREATED:20171230T190254Z
LAST-MODIFIED:20210228T123848Z
UID:132-1625356800-1625443199@fsgbevaix.ch
SUMMARY:RESISPRINT International
DESCRIPTION:
URL:https://fsgbevaix.ch/event/resisprint-international/
LOCATION:La Chaux-de-Fonds
CATEGORIES:Athlétisme,Meetings et championnats
END:VEVENT
END:VCALENDAR