BEGIN:VCALENDAR
VERSION:2.0
PRODID:-// - ECPv6.15.20//NONSGML v1.0//EN
CALSCALE:GREGORIAN
METHOD:PUBLISH
X-ORIGINAL-URL:https://fsgbevaix.ch
X-WR-CALDESC:Évènements pour 
REFRESH-INTERVAL;VALUE=DURATION:PT1H
X-Robots-Tag:noindex
X-PUBLISHED-TTL:PT1H
BEGIN:VTIMEZONE
TZID:Europe/Paris
BEGIN:DAYLIGHT
TZOFFSETFROM:+0100
TZOFFSETTO:+0200
TZNAME:CEST
DTSTART:20200329T010000
END:DAYLIGHT
BEGIN:STANDARD
TZOFFSETFROM:+0200
TZOFFSETTO:+0100
TZNAME:CET
DTSTART:20201025T010000
END:STANDARD
BEGIN:DAYLIGHT
TZOFFSETFROM:+0100
TZOFFSETTO:+0200
TZNAME:CEST
DTSTART:20210328T010000
END:DAYLIGHT
BEGIN:STANDARD
TZOFFSETFROM:+0200
TZOFFSETTO:+0100
TZNAME:CET
DTSTART:20211031T010000
END:STANDARD
BEGIN:DAYLIGHT
TZOFFSETFROM:+0100
TZOFFSETTO:+0200
TZNAME:CEST
DTSTART:20220327T010000
END:DAYLIGHT
BEGIN:STANDARD
TZOFFSETFROM:+0200
TZOFFSETTO:+0100
TZNAME:CET
DTSTART:20221030T010000
END:STANDARD
END:VTIMEZONE
BEGIN:VEVENT
DTSTART;VALUE=DATE:20210424
DTEND;VALUE=DATE:20210425
DTSTAMP:20260424T082939
CREATED:20210228T122437Z
LAST-MODIFIED:20210228T122437Z
UID:789-1619222400-1619308799@fsgbevaix.ch
SUMMARY:Finale régionale Swiss Athletics Sprint
DESCRIPTION:La finale régionale se déroule simultanément que le meeting de Travers.
URL:https://fsgbevaix.ch/event/finale-regionale-swiss-athletics-sprint/
LOCATION:Couvet\, Centre sportif du Val-de-Travers
CATEGORIES:Athlétisme,Meetings et championnats
END:VEVENT
BEGIN:VEVENT
DTSTART;TZID=Europe/Paris:20210424T080000
DTEND;TZID=Europe/Paris:20210424T170000
DTSTAMP:20260424T082939
CREATED:20210228T122538Z
LAST-MODIFIED:20210228T122538Z
UID:791-1619251200-1619283600@fsgbevaix.ch
SUMMARY:Finale régionale 1000m Gruyère
DESCRIPTION:La finale régionale se déroule simultanément que le meeting de Travers.
URL:https://fsgbevaix.ch/event/finale-regionale-1000m-gruyere/
LOCATION:Couvet\, Centre sportif du Val-de-Travers
CATEGORIES:Athlétisme,Meetings et championnats
END:VEVENT
BEGIN:VEVENT
DTSTART;TZID=Europe/Paris:20210428T170000
DTEND;TZID=Europe/Paris:20210428T220000
DTSTAMP:20260424T082939
CREATED:20190328T150503Z
LAST-MODIFIED:20210228T123556Z
UID:440-1619629200-1619647200@fsgbevaix.ch
SUMMARY:Meeting du soir Chaux-de-Fonds
DESCRIPTION:Ouvert aux licenciés u16 et +
URL:https://fsgbevaix.ch/event/meeting-du-soir-chaux-de-fonds-3/
LOCATION:La Chaux-de-Fonds
CATEGORIES:Athlétisme,Meetings et championnats
END:VEVENT
END:VCALENDAR