BEGIN:VCALENDAR
VERSION:2.0
PRODID:-// - ECPv6.15.20//NONSGML v1.0//EN
CALSCALE:GREGORIAN
METHOD:PUBLISH
X-ORIGINAL-URL:https://fsgbevaix.ch
X-WR-CALDESC:Évènements pour 
REFRESH-INTERVAL;VALUE=DURATION:PT1H
X-Robots-Tag:noindex
X-PUBLISHED-TTL:PT1H
BEGIN:VTIMEZONE
TZID:Europe/Paris
BEGIN:DAYLIGHT
TZOFFSETFROM:+0100
TZOFFSETTO:+0200
TZNAME:CEST
DTSTART:20200329T010000
END:DAYLIGHT
BEGIN:STANDARD
TZOFFSETFROM:+0200
TZOFFSETTO:+0100
TZNAME:CET
DTSTART:20201025T010000
END:STANDARD
BEGIN:DAYLIGHT
TZOFFSETFROM:+0100
TZOFFSETTO:+0200
TZNAME:CEST
DTSTART:20210328T010000
END:DAYLIGHT
BEGIN:STANDARD
TZOFFSETFROM:+0200
TZOFFSETTO:+0100
TZNAME:CET
DTSTART:20211031T010000
END:STANDARD
BEGIN:DAYLIGHT
TZOFFSETFROM:+0100
TZOFFSETTO:+0200
TZNAME:CEST
DTSTART:20220327T010000
END:DAYLIGHT
BEGIN:STANDARD
TZOFFSETFROM:+0200
TZOFFSETTO:+0100
TZNAME:CET
DTSTART:20221030T010000
END:STANDARD
END:VTIMEZONE
BEGIN:VEVENT
DTSTART;TZID=Europe/Paris:20210828T080000
DTEND;TZID=Europe/Paris:20210828T170000
DTSTAMP:20260423T055109
CREATED:20200123T104302Z
LAST-MODIFIED:20210228T123310Z
UID:712-1630137600-1630170000@fsgbevaix.ch
SUMMARY:Finale cantonale UBS Kids Cup
DESCRIPTION:La finale se déroule à Cortaillod sous réserve d’homologation de la piste de sprint sinon se déroulera à La Chaux-de-Fonds. \nSprint\, Saut en longueur\, Lancer de balle \nManche qualificative pour la finale suisse du
URL:https://fsgbevaix.ch/event/athletisme-finale-cantonale-ubs-kids-cup-a-la-chaux-de-fonds/
CATEGORIES:Athlétisme,Kids Cup
END:VEVENT
END:VCALENDAR