BEGIN:VCALENDAR
VERSION:2.0
PRODID:-// - ECPv6.15.20//NONSGML v1.0//EN
CALSCALE:GREGORIAN
METHOD:PUBLISH
X-ORIGINAL-URL:https://fsgbevaix.ch
X-WR-CALDESC:Évènements pour 
REFRESH-INTERVAL;VALUE=DURATION:PT1H
X-Robots-Tag:noindex
X-PUBLISHED-TTL:PT1H
BEGIN:VTIMEZONE
TZID:Europe/Paris
BEGIN:DAYLIGHT
TZOFFSETFROM:+0100
TZOFFSETTO:+0200
TZNAME:CEST
DTSTART:20180325T010000
END:DAYLIGHT
BEGIN:STANDARD
TZOFFSETFROM:+0200
TZOFFSETTO:+0100
TZNAME:CET
DTSTART:20181028T010000
END:STANDARD
BEGIN:DAYLIGHT
TZOFFSETFROM:+0100
TZOFFSETTO:+0200
TZNAME:CEST
DTSTART:20190331T010000
END:DAYLIGHT
BEGIN:STANDARD
TZOFFSETFROM:+0200
TZOFFSETTO:+0100
TZNAME:CET
DTSTART:20191027T010000
END:STANDARD
BEGIN:DAYLIGHT
TZOFFSETFROM:+0100
TZOFFSETTO:+0200
TZNAME:CEST
DTSTART:20200329T010000
END:DAYLIGHT
BEGIN:STANDARD
TZOFFSETFROM:+0200
TZOFFSETTO:+0100
TZNAME:CET
DTSTART:20201025T010000
END:STANDARD
END:VTIMEZONE
BEGIN:VEVENT
DTSTART;VALUE=DATE:20190613
DTEND;VALUE=DATE:20190617
DTSTAMP:20260425T020102
CREATED:20190220T193831Z
LAST-MODIFIED:20190220T193956Z
UID:404-1560384000-1560729599@fsgbevaix.ch
SUMMARY:Fête fédérale de gymnastique
DESCRIPTION:Week-end jeunesse et concours individuels
URL:https://fsgbevaix.ch/event/fete-federale-de-gymnastique/
LOCATION:Aarau\, Suisse
CATEGORIES:Athlétisme,Fête fédérale
END:VEVENT
BEGIN:VEVENT
DTSTART;VALUE=DATE:20190620
DTEND;VALUE=DATE:20190624
DTSTAMP:20260425T020102
CREATED:20190220T193943Z
LAST-MODIFIED:20190220T193943Z
UID:407-1560988800-1561334399@fsgbevaix.ch
SUMMARY:Fête fédérale de gymnsatique
DESCRIPTION:Week-end Actifs
URL:https://fsgbevaix.ch/event/fete-federale-de-gymnsatique/
LOCATION:Aarau\, Suisse
CATEGORIES:Athlétisme,Fête fédérale
END:VEVENT
END:VCALENDAR